Workbook

Sheet PERKAM
D1: PEMERINTAH KAMPUNG YUWANAIN
D2: DISTRIK ARSO
D3: KABUPATEN KEEROM
A5: PERATURAN KAMPUNG YUWANAIAN
A6: NOMOR 02 TAHUN 2022
A7: T E N T A N G
A8: ANGGARAN PENDAPATAN DAN BELANJA KAMPUNG
A9: TAHUN ANGGARAN 2022
A11: DENGAN RAHMAT TUHAN YANG MAHA ESA
A13: KEPALA KAMPUNG YUWANAIN
A15: Menimbang | D15: : | E15: a. | F15: bahwa Anggaran Pendapatan dan Belanja Kampung sebagai wujud dari pengelolaan keuangan Kampung dilaksanakan secara terbuka dan bertanggung jawab untuk sebesar-besarnya kemakmuran masyarakat Kampung
E16: b. | F16: bahwa Anggaran Pendapatan dan Belanja Kampung Tahun Anggaran 2022 termuat dalam Peraturan Kampung tentang Anggaran Pendapatan dan Belanja Kampung Tahun Anggaran 2022 yang disusun sesuai dengan kebutuhan penyelenggaraan pemerintahan Kampung berdasarkan prinsip kebersamaan, efisiensi, berkeadilan, berkelanjutan, berwawasan lingkungan, dan kemandirian sehingga menciptakan landasan kuat dalam melaksanakann pemerintahan dan pembangunan menuju masyarakat yang adil, makmur, dan sejahtera;
E17: c. | F17: c. bahwa berdasarkan pertimbangan sebagaimana dimaksud dalam huruf a dan huruf b, perlu menetapkan Peraturan Kampung tentang Anggaran Pendapatan dan Belanja Kampung Tahun Anggaran 2022
A18: Mengingat | D18: : | E18: 1. | F18: Undang-Undang Nomor 12 Tahun 1969 tentang Pembentukan Propinsi Otonomi Irian Barat dan Kabupaten-kabupaten Otonom di Propinsi Irian Barat (Lembaran Negara Republik Indonesia Tahun 1969 Nomor 47, Tambahan Lembaran Negara Republik Indonesia Nomor 2507);
E19: 2. | F19: Undang-Undang Nomor 21 Tahun 2001 tentang Otonomi Khusus Bagi Propinsi Papua (Lembaran Negara Republik Indonesia Tahun 2001 Nomor 135, Tambahan Lembaran Negara Republik Indonesia nomor 4151) sebagaimana telah diubah dengan Undang-Undang Nomor 35 Tahun 2008 Nomor 112, Tambahan Lembaran Negara Republik Indonesia Nomor 4884);
E20: 3. | F20: Undang-Undang Nomor 26 Tahun 2002 tentang Pembentukan Kabupaten Sarmi, Kabupaten Keerom, Kabupaten Sorong Selatan, Kabupaten Raja Ampat, Kabupaten Pegunungan Bintang, Kabupaten Yahukimo, Kabupaten Boven Digoel, Kabupaten Mappi, Kabupaten Asmat, Kabupaten Teluk Bintuni, Kabupaten Teluk Wondama di Provinsi Papua (Lembaran Negara Republik Indonesia Tahun 2002 Nomor 129, Tambahan Lembaran Negara Republik Indonesia Nomor 4245);
E21: 4. | F21: Undang-Undang Nomor 33 Tahun 2004 tentang Perimbangan Keuangan Antara Pemerintah Pusat dan Pemerintah Daerah (Lembaran Negara Republik Indonesia Tahun 2004 Nomor 126, Tambahan Lembaran Negara Republik Indonesia Nomor 4438);
E22: 5. | F22: Undang-Undang Nomor 6 Tahun 2014 tentang Kampung (Lembaran Negara Republik Indonesia Tahun 2014 Nomor 7, Tambahan Lembaran Negara Republik Indonesia Nomor 5495);
E23: 6. | F23: Undang-Undang Nomor 23 Tahun 2014 tentang Pemerintahan Daerah (Lembaran Negara Republik Indonesia Tahun 2014 Nomor 244, Tambahan Lembaran Negara Republik Indonesia Nomor 5587);
E24: 7. | F24: Peraturan Pemerintah Nomor 43 Tahun 2014 tentang Peraturan Pelaksanaan Undang-Undang Nomor 6 Tahun 2014 Tentang Kampung (Lembaran Negara Republik Indonesia Tahun 2014 Nomor 123, Tambahan Lembaran Negara Republik Indonesia Nomor 5539) sebagaimana diubah dengan Peraturan Pemerintah Nomor 47 Tahun 2015 Tentang Perubahan Atas Peraturan Pemerintah Nomor 43 Tahun 2014 Tentang Peraturan Pelaksanaan Undang-Undang Nomor 6 Tahun 2014 Tentang Kampung (Lembaran Negara Republik Indonesia Tahun 2014 Nomor 157, Tambahan Lembaran Negara Republik Indonesia Nomor 5717) ;
E25: 8. | F25: Peraturan Pemerintah Nomor 60 Tahun 2014 tentang Dana Kampung Yang Bersumber Dari Anggaran Pendapatan dan Belanja Negara (Lembaran Negara Republik Indonesia Tahun 2014 Nomor 168, Tambahan Lembaran Negara Republik Indonesia Nomor 5558) sebagaimana diubah dengan Peraturan Pemerintah Nomor 22 Tahun 2015 tentang Perubahan atas Peraturan Pemerintah Nomor 60 Tahun 2014 tentang Dana Kampung yang Bersumber dari Anggaran Pendapatan dan Belanja Negara (Lembaran Negara Republik Indonesia Tahun 2015 Nomor 88, Tambahan Lembaran Negara Republik Indonesia Nomor 5694) sebagaimana diubah keduakalinya dengan Peraturan Pemerintah Nomor 8 Tahun 2016 tentang Perubahan Kedua Atas Peraturan Pemerintah Nomor 60 Tahun 2014 tentang Dana Kampung yang Bersumber dari Anggaran Pendapatan dan Belanja Negara (Lembaran Negara Republik Indonesia Tahun 2016 Nomor 57, Tambahan Lembaran Negara Republik Indonesia Nomor 5864)
E26: 9. | F26: Peraturan Presiden Republik Indonesia No 104 Tahun 2021 Tentang Rincian Anggaran Pendapatan dan Belanja Negara Tahun 2022
E27: 10. | F27: Peraturan Menteri Dalam Negeri Nomor 20 Tahun 2018 tentang Pengelolaan Keuangan Kampung
E28: 11. | F28: Peraturan Menteri Keuangan Republik Indonesia Nomor 190 /PMK.07/ Tahun 2021 Tentang Pengelolaan Dana Desa
E29: 12. | F29: Peraturan Menteri Pembangunan Daerah Tertinggal, dan Transmigrasi Republik Indonesia No 7 Tahun 2021 Tentang Prioritas Penggunaan Dana Desa Tahun 2022
E30: 13. | F30: Peraturan Daerah Kabupaten Keerom Nomor 11 Tahun 2022 tentang Anggaran Pendapatan dan Belanja Daerah Kabupaten Keerom Tahun Anggaran 2022
E31: 14. | F31: Peraturan Bupati Keerom Nomor 306 Tahun 2022 Tentang Alokasi Dana Kampung, Tata Cara Pembagian, Dan Penetapan Pembagian Kepada Setiap Kampung Tahun Anggaran 2022
A33: Dengan Kesepakatan Bersama
A34: BADAN MUSYAWARAH KAMPUNG YUWANAIN
A35: DAN
A36: KEPALA KAMPUNG YUWANAIAN
A38: MEMUTUSKAN
A39: Menetapkan | D39: : | E39: PERATURAN KAMPUNG YUWANAIN TENTANG ANGGARAN PENDAPATAN DAN BELANJA KAMPUNG TAHUN ANGGARAN 2022
A42: Pasal 1
A43: Anggaran Pendapatan dan Belanja Kampung Tahun Anggaran 2022 dengan rincian sebagai berikut:
B44: 1. Pendapatan Kampung | I44: ='LAMPIRAN APBK'!$C$12 -> 1828327498
B45: 2. Belanja Kampung
B46: a. | C46: ='LAMPIRAN APBK'!B27 -> BIDANG PENYELENGGARAAN PEMERINTAHAN KAMPUNG | I46: ='LAMPIRAN APBK'!C27 -> 526571498
B47: b. | C47: ='LAMPIRAN APBK'!B96 -> BIDANG PELAKSANAAN PEMBANGUNAN KAMPUNG | I47: ='LAMPIRAN APBK'!C96 -> 279855520
B48: c. | C48: ='LAMPIRAN APBK'!B129 -> BIDANG PEMBINAAN KEMASYARAKATAN KAMPUNG | I48: ='LAMPIRAN APBK'!C129 -> 143000000
B49: d. | C49: ='LAMPIRAN APBK'!B153 -> BIDANG PEMBERDAYAAN MASYARAKAT KAMPUNG | I49: ='LAMPIRAN APBK'!C153 -> 283000000
B50: e. | C50: ='LAMPIRAN APBK'!B163 -> BIDANG PENANGGULANGAN BENCANA, KEADAAN MENDESAK DAN DARURAT KAMPUNG | I50: ='LAMPIRAN APBK'!C163 -> 595900480
B52: Jumlah Belanja | I52: ='LAMPIRAN APBK'!C172 -> 1828327498
B53: Surplus/Defisit | I53: ='LAMPIRAN APBK'!C173 -> 0
B55: 3. Pembiayaan Kampung
B56: a. | C56: ='LAMPIRAN APBK'!B178 -> Penerimaan Pembiayaan | I56: ='LAMPIRAN APBK'!C178 -> 0
B57: b. | C57: ='LAMPIRAN APBK'!B183 -> Pengeluaran Pembiayaan | I57: ='LAMPIRAN APBK'!C183 -> 0
B58: Selisih Pembiayaan ( a – b ) | I58: =I56-I57 -> 0
A61: Pasal 2
A62: Uraian lebih lanjut Anggaran Pendapatan dan Belanja Kampung sebagaimana dimaksud dalam Pasal 1 tercantum dalam Lampiran yang merupakan bagian tak terpisahkan dari Peraturan Kampung ini
A64: Pasal 3
A65: Lampiran sebagaimana dimaksud dalam Pasal 2 memuat:
A66: a. APB Kampung;
A67: b. daftar penyertaan modal, jika tersedia;
A68: c. daftar dana cadangan, jika tersedia; dan
A69: d. daftar kegiatan yang belum dilaksanakan di tahun anggaran sebelumnya, jika ada.
A71: Pasal 4
A72: Kepala Kampung menetapkan Peraturan Kepala Kampung tentang Penjabaran Anggaran Pendapatan dan Belanja Kampung sebagai landasan operasional pelaksanaan APBKampung
A74: Pasal 5
A75: (1) | B75: Pemerintah Kampung dapat melaksanakan kegiatan untuk penanggulangan bencana, keadaan darurat, dan menKampungk.
A76: (2) | B76: Pendanaan kegiatan sebagaimana dimaksud pada ayat (1) menggunakan anggaran jenis belanja tidak terduga.
A77: (3) | B77: Pemerintah Kampung dapat melakukan kegiatan penanggulangan bencana, keadaan darurat, dan menKampungk yang belum tersedia anggarannya, yang selanjutnya diusulkan dalam rancangan peraturan Kampung tentang perubahan APB Kampung.
A78: (4) | B78: Kegiatan sebagaimana dimaksud pada ayat (1) harus memenuhi kriteria:
B79: a. | C79: bukan merupakan kegiatan normal dari aktivitas pemerintah Kampung dan tidak dapat diprediksi sebelumnya;
B80: b. | C80: tidak diharapkan terjadi secara berulang;
B81: c. | C81: berada diluar kendali dan pengaruh pemerintah Kampung;
B82: d. | C82: memiliki dampak yang signifikan terhadap anggaran dalam rangka pemulihan yang disebabkan oleh kejadian yang luar biasa dan/atau permasalahan sosial; dan
B83: e. | C83: berskala lokal Kampung.
A85: Pasal 6
A86: Dalam hal terjadi
A87: a. | B87: penambahan dan/atau pengurangan dalam pendapatan Kampung pada tahun berjalan;
A88: b. | B88: keadaan yang menyebabkan harus dilakukan pergeseran antar objek belanja; dan
A89: c. | B89: kegiatan yang belum dilaksanakan tahun sebelumnya dan menyebabkan SiLPA akan dilaksanakan dalam tahun berjalan
A90: kepala Kampung dapat mendahului perubahan APB Kampung dengan melakukan perubahan Peraturan Kepala Kampung tentang Penjabaran APB Kampung dan memberitahukannya kepada BPD
A92: Pasal 7
A93: Peraturan Kampung ini mulai berlaku pada tanggal diundangkan
A94: Agar setiap orang dapat mengetahui, memerintahkan pengundangan Peraturan Kampung ini dalam Lembaran Kampung Yuwanain
H97: Ditetapkan di Kampung Yuwanaian
H98: ='LAMPIRAN APBK'!C189 -> Kampung Yuwanain, 08 Maret 2022
H99: KEPALA KAMPUNG YUWANAIN
H106: ='LAMPIRAN APBK'!C198 -> ABDUL GOFAR
A108: Diundangkan di | E108: : | F108: Kampung Yuwanain
A109: Pada tanggal | E109: : | F109: 08 Maret 2022
A111: SEKRETARIS KAMPUNG YUWANAIAN
A118: MASHUDI, SH., M.MP
A120: LEMBARAN KAMPUNG YUWANAIN TAHUN 2022 NOMOR 02

Sheet LAMPIRAN APBK
A1: Lampiran Peraturan Kampung Yuwanaian
A2: Nomor : 02
A3: Tahun : 2022
A4: Tentang : Anggaran Pendapatan dan Belanja Kampung 2022
A6: ANGGARAN PENDAPATAN DAN BELANJA KAMPUNG
A7: PEMERINTAH KAMPUNG YUWANAIN
A8: TAHUN ANGGARAN 2022
A10: KODE REKENING | B10: URAIAN | C10: ANGGARAN (Rp) | D10: KETERANGAN
A12: 4 | B12: PENDAPATAN | C12: =C24 -> 1828327498
A13: 4.1 | B13: Pendapatan Asli Kampung | C13: =C15 -> 0
A15: 4.1.2 | B15: Hasil Aset Kampung | C15: =SUM(C16:C16) -> 0
A16: 4.1.2.2 | B16: Pendapatan Sewa Gedung Milik Kampung
A18: 4.2 | B18: Pendapatan Transfer | C18: =SUM(C19:C22) -> 1828327498
A19: 4.2.1 | B19: Dana Kampung | C19: =[1]Sheet1!$C$11 -> 1238756000 | D19: DD | F19: =C19-C170 -> 741956000
A20: 4.2.2 | B20: Bagian dari hasil pajak &retribusi daerah kabupaten | C20: 0 | F20: =F19*60% -> 445173600
A21: 4.2.3 | B21: Alokasi Dana Kampung | C21: =[1]Sheet1!$D$11 -> 589571498 | D21: ADD
A22: 4.2.4 | B22: Bantuan Keuangan Provinsi
B24: JUMLAH PENDAPATAN | C24: =C13+C18 -> 1828327498
A25: 5 | B25: BELANJA | C25: =C172 -> 1828327498
A27: 1 | B27: BIDANG PENYELENGGARAAN PEMERINTAHAN KAMPUNG | C27: =C28+C77+C83+C87 -> 526571498
A28: 1.1.51 | B28: Sub Bidang Penyelenggaraan belanja Penghasilan Tetap,Tunjangan, | C28: =C29+C34+C38+C42+C52+C62+C68+C73 -> 481071498
A29: 1.1.1.5.1.1 | B29: Penyediaan Penghasilan Tetap dan Tunjangan Kepala Kampung | C29: =SUM(C30:C31) -> 44400000
B30: Penghasilan Tetap Kepala Kampung (@Rp. 3.200.000 x 1 x 12) | C30: =3200000*12*1 -> 38400000 | D30: ADD | E30: =3200000*1*5 -> 16000000
B31: Tunjangan Kepala Kampung (@Rp. 500.000 x 1 x 12) | C31: =500000*1*12 -> 6000000 | D31: ADD | E31: =500000*1*5 -> 2500000
A33: 1.1.2.5.1.2 | B33: Penyediaan Penghasilan Tetap dan Tunjangan Perangkat Kampung
A34: 1.1.2.5.1.2.1 | B34: Penghasilan Tetap Aparat Kampung | C34: =SUM(C35:C36) -> 130560000
B35: Penghasilan Tetap Sekretaris Kampung (@Rp. 2.560.000 x 1 x 12) | C35: =2560000*1*12 -> 30720000 | D35: ADD | E35: =2560000*1*5 -> 12800000
B36: Penghasilan Tetap Aparat Kampung (@Rp. 2.080.000 x 4 x 12) | C36: =2080000*4*12 -> 99840000 | D36: ADD | E36: =2080000*4*5 -> 41600000 | F36: =800000*12 -> 9600000
A38: 1.1.2.5.1.2.2 | B38: Tunjangan Aparat Kampung | C38: =SUM(C39:C40) -> 13200000
B39: Tunjangan Sekretaris Kampung (@Rp. 300.000 x 1 x 12) | C39: =300000*1*12 -> 3600000 | D39: ADD | E39: =300000*1*5 -> 1500000
B40: Tunjangan Aparat Kampung (@Rp. 200.000 x 4 x 12) | C40: =200000*4*12 -> 9600000 | D40: ADD | E40: =200000*4*5 -> 4000000 | H40: =C30+C31+C35+C36+C39+C40+C44+C45+C46+C48+C49+C50+C53+C54+C55+C56+C57+C58+C59+C60+C63+C64+C65+C66+C69+C70+C71+C74+C75+C79+C80+C81+C89+C91+C93+C146+C150+C161 -> 583571498 | I40: =G41-H40 -> 6000000
F41: ADD | G41: =C21 -> 589571498 | H41: =C30+C31+C35+C36+C39+C40+C44+C45+C46+C48+C49+C50+C53+C54+C55+C56+C57+C58+C59+C60+C63+C64+C65+C66+C69+C70+C71+C74+C75+C79+C80+C81+C89+C91+C93+C146+C150+C161 -> 583571498 | I41: =G41-H41 -> 6000000
A42: 1.1.3.5.1.3 | B42: Penyediaan Jaminan Sosial bagi Kepala Kampung dan Perangkat Kampung | C42: =C43+C47 -> 28272024 | F42: DD | G42: =C19 -> 1238756000 | H42: =C85+C99+C100+C104+C105+C106+C107+C109+C111+C115+C116+C117+C127+C132+C138+C142+C151+C156+C166+C170+C136+C137+C122+C123+C119 -> 1085756000 | I42: =G42-H42 -> 153000000
B43: BPJS Ketenagakerjaan | C43: =SUM(C44:C46) -> 15611904 | H43: =C85+C99+C100+C104+C105+C106+C107+C109+C111+C115+C116+C117+C119+C122+C123+C127+C132+C136+C137+C138+C142+C151+C156+C166+C170 -> 1085756000 | I43: =G42-H43 -> 153000000
B44: Jaminan BPJS Ketenagakerjaan Kepala Desa (@Rp. 295.680 x 1 x 12) | C44: =295680*1*12 -> 3548160 | D44: ADD | F44: BB | G44: =#REF! -> #REF! | H44: =#REF! -> #REF! | I44: =G44-H44 -> #REF!
B45: Jaminan BPJS Ketenagakerjaan Sekretaris Desa (@Rp. 236.544 x 1 x 12) | C45: =236544*1*12 -> 2838528 | D45: ADD | F45: TOTAL | G45: =SUM(G41:G44) -> #REF! | H45: =SUM(H41:H44) -> #REF! | I45: =G45-H45 -> #REF!
B46: Jaminan BPJS Ketenagakerjaan Perangkat Desa (@Rp. 192.192 x 4 x 12) | C46: =192192*4*12 -> 9225216 | D46: ADD
B47: BPJS Kesehatan | C47: =SUM(C48:C50) -> 12660120
B48: Jaminan BPJS Kesehatan Kepala Desa (@Rp. 175.835 x 1 x 12) | C48: =175835*1*12 -> 2110020 | D48: ADD | F48: ADD Silpa | G48: =C179 -> 0 | H48: =#REF!+#REF!+#REF!+#REF!+#REF!+#REF!+#REF!+#REF!+#REF!+#REF!+#REF!+#REF! -> #REF! | I48: =G48-H48 -> #REF!
B49: Jaminan BPJS Kesehatan Sekretaris Desa (@Rp. 175.835 x 1 x 12) | C49: =175835*1*12 -> 2110020 | D49: ADD
B50: Jaminan BPJS Kesehatan Perangkat Desa (@Rp. 175.835 x 4 x 12) | C50: =175835*4*12 -> 8440080 | D50: ADD
A52: 1.1.4.5.1.5 | B52: Penyediaan Operasional Pemerintah Kampung | C52: =SUM(C53:C60) -> 62559474
B53: Belanja ATK | C53: 6959474 | D53: ADD | E53: =C53 -> 6959474
B54: Penggandaan dan Penjilidan | C54: 2000000 | D54: ADD
B55: Biaya Konsumsi Rapat-rapat | C55: 12000000 | D55: ADD | E55: 3000000
B56: Biaya Sewa Gedung | C56: 2000000 | D56: ADD | E56: =C56 -> 2000000
B57: Biaya Perjalanan Dinas | C57: 15000000 | D57: ADD | E57: 5000000
B58: Belanja Alat & Bahan Kebersihan Kantor Kampung | C58: 2000000 | D58: ADD | E58: =C58 -> 2000000
B59: Clening Servis ( 1 Org x Rp. 1.000.000 x 12 Bln ) | C59: =1000000*12 -> 12000000 | D59: ADD | E59: =1000000*1*5 -> 5000000
B60: Belanja Pls Listrik & Indihome | C60: 10600000 | D60: ADD | E60: 5000000
A62: 1.1.5.5.1.4 | B62: Penyediaan Tunjangan Bamuskam | C62: =SUM(C63:C66) -> 94080000
B63: Tunjangan Kedudukan Ketua Bamuskam (@Rp. 2.080.000 x 1 x 12) | C63: =2080000*1*12 -> 24960000 | D63: ADD | E63: =2080000*1*5 -> 10400000
B64: Tunjangan Kedudukan Wakil Bamuskam (@Rp. 1.760.000 x 1 x 12) | C64: =1760000*1*12 -> 21120000 | D64: ADD | E64: =1760000*1*5 -> 8800000
B65: Tunjangan Kedudukan Sekretaris Bamuskam (@Rp. 1.440.000 x 1 x 12) | C65: =1440000*1*12 -> 17280000 | D65: ADD | E65: =1440000*1*5 -> 7200000
B66: Tunjangan Kedudukan Anggota Bamuskam (@Rp. 1.280.000 x 2 x 12) | C66: =1280000*2*12 -> 30720000 | D66: ADD | E66: =1280000*2*5 -> 12800000
A68: 1.1.6.5.1.6 | B68: Penyediaan Operasional BPD (Rapat-rapat (ATK, makan-minum), perlengkapan perkantoran, Pakaian Seragam, perjalanan dinas, listrik/telpon, dll) | C68: =SUM(C69:C71) -> 9000000
B69: Belanja ATK | C69: 1000000 | D69: ADD
B70: Biaya Konsumsi Rapat-rapat Bamuskam | C70: 2000000 | D70: ADD
B71: Pengadaan Seragam BMUSKAM ( 5 Stel ) | C71: =1200000*5 -> 6000000 | D71: ADD | E71: =C71 -> 6000000
A73: 1.1.7 | B73: Penyediaan Insentif/Operasional RT/RW | C73: =SUM(C74:C75) -> 99000000
A74: 1.1.7.1 | B74: Insentif Ketua RT 27 Org ( Rp 250.000 x 27 Org x 12 Bln ) | C74: =250000*27*12 -> 81000000 | D74: ADD | E74: =250000*27*5 -> 33750000
A75: 1.1.7.2 | B75: Insentif Ketua RW 6 Org ( Rp 250.000 x 6 Org x 12 Bln ) | C75: =250000*6*12 -> 18000000 | D75: ADD | E75: =250000*6*5 -> 7500000
A77: 1.2 | B77: =Sheet5!D15 -> Sub Bidang Sarana dan Prasarana Pemerintahan Desa | C77: =C78 -> 17500000
A78: 1.2.1 | B78: Penyediaan sarana (aset tetap) perkantoran/pemerintahan | C78: =SUM(C79:C81) -> 17500000
A79: 1.2.1.1 | B79: Pengadaan Warles 1 Unit | C79: 7500000 | D79: ADD | E79: =C79 -> 7500000
B80: Pengadaan Leptop Lenovo Min. Ram 4 G ( 1 Unit ) | C80: 9000000 | D80: ADD | E80: =C80 -> 9000000
B81: Pengadaan Dispenser ( 1 Unit ) | C81: 1000000 | D81: ADD | E81: =C81 -> 1000000
A83: 1.3 | B83: Sub Bidang Administrasi Kependudukan, Pencatatan Sipil, Statistik dan Kearsipan | C83: =C84 -> 2000000
A84: 1.3.2 | B84: Penyusunan/Pendataan/Pemutakhiran Profil Desa (profil kependudukan dan potensi desa)** | C84: =C85 -> 2000000
A85: 1.3.2.1 | B85: Pembaharuan Pendataan SDGs & IDM Tahun 2022 | C85: 2000000 | D85: DDS
A87: 1.4 | B87: Sub Bidang Tata Praja Pemerintahan, Perencanaan, Keuangan dan Pelaporan | C87: =C88+C90+C92 -> 26000000
A88: 1.4.2 | B88: Penyelenggaraan Musyawarah Desa lainnya (musdus, rembug warga, dll., yang bersifat non-reguler sesuai kebutuhan desa) | C88: =C89 -> 12000000
A89: 1.4.2.1 | B89: Penyelenggaraan Muskam Tahun 2022 | C89: 12000000 | D89: ADD
A90: 1.4.3 | B90: Penyusunan Dokumen Perencanaan Desa (RPJMDes/RKPDes,dll) | C90: =C91 -> 6000000
A91: 1.4.3.1 | B91: Pembuatan RKPK TA. 2022 | C91: 6000000 | D91: ADD | E91: =C91 -> 6000000
A92: 1.4.4 | B92: Penyusunan Dokumen Keuangan Desa (APBDes/ APBDes Perubahan/ LPJ APBDes, dan seluruh dokumen terkait) | C92: =SUM(C93:C94) -> 8000000
A93: 1.4.4.1 | B93: Penyusunan Dokumen APBK TA. 2022 | C93: 2000000 | D93: ADD | E93: =C93 -> 2000000
A94: 1.4.4.2 | B94: Penyusunan Dokumen Laporan Pertanggungjawaban | C94: 6000000 | D94: ADD | E94: 2000000
E95: =SUM(E30:E94) -> 221309474 | F95: =E95+C146 -> 236309474
A96: 2 | B96: BIDANG PELAKSANAAN PEMBANGUNAN KAMPUNG | C96: =C97+C102+C113+C125 -> 279855520 | E96: =C21*40% -> 2.358286e+08 | F96: =E96-F95 -> -480874.8
A97: 2.1 | B97: Sub Bidang Pendidikan, | C97: =C98 -> 27600000
A98: 2.1.1 | B98: =Sheet5!D56 -> Penyelenggaraan PAUD/TK/TPA/TKA/TPQ/Madrasah Non-Formal Milik Desa** (Bantuan Honor Pengajar, Pakaian Seragam, Operasional, dst) | C98: =SUM(C99:C100) -> 27600000
A99: 2.1.1.1 | B99: Insentif Guru Honor PAUD (Rp.200.000 x 4 Org x 12 Bln) | C99: =200000*4*12 -> 9600000 | D99: DDS
A100: 2.1.1.2 | B100: Insentif Guru Mengaji dan Sekolah Minggu (Rp.100.000 x 15 Org x 12) | C100: =100000*15*12 -> 18000000 | D100: DDS
A102: 2.2 | B102: Sub Bidang Kesehatan, | C102: =C103+C108+C110 -> 103200000
A103: 2.2.2 | B103: =Sheet5!D70 -> Penyelenggaraan Posyandu (Makanan Tambahan, Kelas Ibu Hamil, Kelas Lansia, Insentif Kader Posyandu) | C103: =SUM(C104:C107) -> 82400000
A104: 2.2.2.1 | B104: Insentif Kader Posyandu BUMIL & Balita (Rp 200.000 x 16 Org x 12 Bln) | C104: =200000*16*12 -> 38400000 | D104: DDS
A105: 2.2.2.2 | B105: Insentif Kader POSBINDU (Rp 200.000 x 5 Org x 12 Bln) | C105: =200000*5*12 -> 12000000 | D105: DDS
A106: 2.2.2.3 | B106: Bantuan PMT Balita ( L. 287 Org/P. 269 Org ) | C106: 28000000 | D106: DDS
A107: 2.2.2.4 | B107: Bantuan PMT Bumil (75 Org) | C107: 4000000 | D107: DDS
A108: 2.2.4 | B108: =Sheet5!D72 -> Penyelenggaraan Desa Siaga Kesehatan | C108: =SUM(C109:C109) -> 10800000
A109: 2.2.4.1 | B109: Transport Kader Malaria @ 9 Org x Rp. 100.000 | C109: =100000*9*12 -> 10800000 | D109: DDS
A110: 2.2.9 | B110: Pembangunan/Rehabilitasi/Peningkatan/Pengadaan Sarana/Prasarana Posyandu/Polindes/PKD ** | C110: =C111 -> 10000000
A111: 2.2.9.1 | B111: Belanja Perlengkapan Posbindu ( L. 130 Org/P. 185 Org ) | C111: 10000000 | D111: DDS
A113: 2.3 | B113: Sub Bidang Pekerjaan Umum dan Penataan Ruang | C113: =C114+C118+C121 -> 148055520
A114: 2.3.7 | B114: Pemeliharaan Pemakaman Milik Desa/Situs Bersejarah Milik Desa/Petilasan Milik | C114: =SUM(C115:C117) -> 15700000
A115: 2.3.7.1 | B115: Insentif Juru Kunci Kuburan (Rp. 300.000 x 2 Org x 12 Bln) | C115: =300000*2*12 -> 7200000 | D115: DDS
A116: 2.3.7.2 | B116: Pembersihan Pemakaman Untuk Satu Tahun | C116: 6000000 | D116: DDS | E116: =C116 -> 6000000
B117: Pemeliharaan Listrik Pemakaman | C117: =1200000+1300000 -> 2500000 | D117: DDS | E117: =C117 -> 2500000
A118: 2.3.16 | B118: Pembangunan/Rehabilitasi/Peningkatan Pemakaman Milik Desa/Situs Bersejarah Milik Desa/Petilasan | C118: =C119 -> 12355520
...

Sheet Sheet5
A1: Daftar Kode Rekening Bidang, Sub Bidang, dan Kegiatan
A3: 1 | D3: BIDANG PENYELENGGARAAN PEMERINTAHAN DESA
D4: Bidang Penyelenggaraan Pemerintahan Desa berisi sub bidang dan kegiatan yang digunakan untuk mendukung terselenggaranya fungsi pemerintahan Desa yang mencakup:
A5: 1 | B5: 1 | D5: Sub Bidang Penyelenggaraan Belanja Penghasilan Tetap, Tunjangan dan Operasional Pemerintahan Desa (Maksimal 30 % untuk kegiatan 1-7)
A6: 1 | B6: 1 | C6: 1 | D6: Penyediaan Penghasilan Tetap dan Tunjangan Kepala Desa
A7: 1 | B7: 1 | C7: 2 | D7: Penyediaan Penghasilan Tetap dan Tunjangan Perangkat Desa
A8: 1 | B8: 1 | C8: 3 | D8: Penyediaan Jaminan Sosial bagi Kepala Desa dan Perangkat Desa
A9: 1 | B9: 1 | C9: 4 | D9: Penyediaan Operasional Pemerintah Desa (ATK, Honorarium PKPKD dan PPKD, perlengkapan perkantoran, pakaian dinas/atribut, listrik/telpon, dll)
A10: 1 | B10: 1 | C10: 5 | D10: Penyediaan Tunjangan BPD
A11: 1 | B11: 1 | C11: 6 | D11: Penyediaan Operasional BPD (Rapat-rapat (ATK, makan-minum), perlengkapan perkantoran, Pakaian Seragam, perjalanan dinas, listrik/telpon, dll)
A12: 1 | B12: 1 | C12: 7 | D12: Penyediaan Insentif/Operasional RT/RW
A13: 1 | B13: 1 | C13: 90-99 | D13: Lain-lain Sub Bidang Penyelenggaraan Belanja Penghasilan Tetap, Tunjangan dan Operasional Pemerintahan Desa
A15: 1 | B15: 2 | D15: Sub Bidang Sarana dan Prasarana Pemerintahan Desa
A16: 1 | B16: 2 | C16: 1 | D16: Penyediaan sarana (aset tetap) perkantoran/pemerintahan
A17: 1 | B17: 2 | C17: 2 | D17: Pemeliharaan Gedung/Prasarana Kantor Desa
A18: 1 | B18: 2 | C18: 3 | D18: Pembangunan/Rehabilitasi/Peningkatan Gedung/Prasarana Kantor Desa**
A19: 1 | B19: 2 | C19: 90-99 | D19: lain-lain kegiatan sub bidang sarana dan prasarana pemerintahan Desa*
A21: 1 | B21: 3 | D21: Sub Bidang Administrasi Kependudukan, Pencatatan Sipil, Statistik dan Kearsipan
A22: 1 | B22: 3 | C22: 1 | D22: Pelayanan administrasi umum dan kependudukan (Surat Pengantar/Pelayanan KTP, Akta Kelahiran, Kartu Keluarga, dll)
A23: 1 | B23: 3 | C23: 2 | D23: Penyusunan/Pendataan/Pemutakhiran Profil Desa (profil kependudukan dan potensi desa)**
A24: 1 | B24: 3 | C24: 3 | D24: Pengelolaan administrasi dan kearsipan pemerintahan desa
A25: 1 | B25: 3 | C25: 4 | D25: Penyuluhan dan Penyadaran Masyarakat tentang Kependudukan dan Pencatatan Sip
A26: 1 | B26: 3 | C26: 5 | D26: Pemetaan dan Analisis Kemiskinan Desa secara Partisipatif
A27: 1 | B27: 3 | C27: 90-99 | D27: lain-lain kegiatan sub bidang administrasi kependudukan, pencatatan sipil, statistik dan kearsipan*
A29: 1 | B29: 4 | D29: Sub Bidang Tata Praja Pemerintahan, Perencanaan, Keuangan dan Pelaporan
A30: 1 | B30: 4 | C30: 1 | D30: Penyelenggaraan Musyawarah Perencanaan Desa/Pembahasan APBDes (Musdes, Musrenbangdes/Pra-Musrenbangdes, dll., bersifat reguler)
A31: 1 | B31: 4 | C31: 2 | D31: Penyelenggaraan Musyawarah Desa lainnya (musdus, rembug warga, dll., yang bersifat non-reguler sesuai kebutuhan desa)
A32: 1 | B32: 4 | C32: 3 | D32: Penyusunan Dokumen Perencanaan Desa (RPJMDes/RKPDes,dll)
A33: 1 | B33: 4 | C33: 4 | D33: Penyusunan Dokumen Keuangan Desa (APBDes/ APBDes Perubahan/ LPJ APBDes, dan seluruh dokumen terkait)
A34: 1 | B34: 4 | C34: 5 | D34: Pengelolaan/Administrasi/Inventarisasi/Penilaian Aset Desa
A35: 1 | B35: 4 | C35: 6 | D35: Penyusunan Kebijakan Desa (Perdes/Perkades, dll - diluar dokumen Rencana Pembangunan/Keuangan)
A36: 1 | B36: 4 | C36: 7 | D36: Penyusunan Laporan Kepala Desa/Penyelenggaraan Pemerintahan Desa (laporan akhir tahun anggaran, laporan akhir masa jabatan, laporan keterangan akhir tahun anggaran, informasi kepada masyarakat)
A37: 1 | B37: 4 | C37: 8 | D37: Pengembangan Sistem Informasi Desa
A38: 1 | B38: 4 | C38: 9 | D38: Koordinasi/Kerjasama Penyelenggaraan Pemerintahan dan Pembangunan Desa (Antar Desa/Kecamatan/Kabupaten, Pihak Ketiga, dll)**
A39: 1 | B39: 4 | C39: 10 | D39: Dukungan Pelaksanaan dan Sosialisasi Pilkades, Pemilihan Kepala Kewilayahan dan Pemilihan BPD (yang menjadi wewenang Desa)
A40: 1 | B40: 4 | C40: 11 | D40: Penyelenggaraan Lomba antar kewilayahan dan pengiriman kontingen dalam mengikuti Lomba Desa
A41: 1 | B41: 4 | C41: 90-99 | D41: lain-lain kegiatan sub bidang tata praja pemerintahan, perencanaan, keuangan dan pelaporan*
A43: 1 | B43: 5 | D43: Sub Bidang Pertanahan
A44: 1 | B44: 5 | C44: 1 | D44: Sertifikasi Tanah Kas Desa
A45: 1 | B45: 5 | C45: 2 | D45: Administrasi Pertanahan (Pendaftaran Tanah, dan Pemberian Registrasi Agenda Pertanahan)
A46: 1 | B46: 5 | C46: 3 | D46: Fasilitasi Sertifikasi Tanah untuk Masyarakat Miskin
A47: 1 | B47: 5 | C47: 4 | D47: Mediasi Konflik Pertanahan
A48: 1 | B48: 5 | C48: 5 | D48: Penyuluhan Pertanahan
A49: 1 | B49: 5 | C49: 6 | D49: Administrasi Pajak Bumi dan Bangunan (PBB)
A50: 1 | B50: 5 | C50: 7 | D50: Penentuan/Penegasan/Pembangunan Batas/Patok Tanah Desa
A51: 1 | B51: 5 | C51: 90-99 | D51: lain-lain kegiatan sub bidang pertanahan*
A53: 2 | D53: BIDANG PELAKSANAAN PEMBANGUNAN DESA
D54: Bidang Pelaksanaan Pembangunan Desa berisi sub bidang dan kegiatan dalam pembangunan pendidikan, kesehatan, pekerjaan umum, dan lain-lain. Pembangunan tidak berarti hanya pembangunan secara fisik akan tetapi juga terkait dengan pembangunan non fisik seperti pengembangan dan pembinaan,
A55: 2 | B55: 1 | D55: Sub Bidang Pendidikan
A56: 2 | B56: 1 | C56: 1 | D56: Penyelenggaraan PAUD/TK/TPA/TKA/TPQ/Madrasah Non-Formal Milik Desa** (Bantuan Honor Pengajar, Pakaian Seragam, Operasional, dst)
A57: 2 | B57: 1 | C57: 2 | D57: Dukungan Penyelenggaraan PAUD (APE, Sarana PAUD, dst)
A58: 2 | B58: 1 | C58: 3 | D58: Penyuluhan dan Pelatihan Pendidikan bagi Masyarakat
A59: 2 | B59: 1 | C59: 4 | D59: Pemeliharaan Sarana dan Prasarana Perpustakaan/Taman Bacaan Desa/ Sanggar Belajar Milik Desa **
A60: 2 | B60: 1 | C60: 5 | D60: Pemeliharaan Sarana dan Prasarana PAUD/TK/TPA/TKA/TPQ/Madrasah Non- Formal Milik Desa**
A61: 2 | B61: 1 | C61: 6 | D61: Pembangunan/Rehabilitasi/Peningkatan/Pengadaan Sarana/Prasarana/Alat Peraga Edukatif (APE) PAUD/ TK/TPA/TKA/TPQ/Madrasah Non-Formal Milik Desa**
A62: 2 | B62: 1 | C62: 7 | D62: Pembangunan/Rehabilitasi/Peningkatan Sarana Prasarana Perpustakaan/Taman Bacaan Desa/ Sanggar Belajar Milik Desa**
A63: 2 | B63: 1 | C63: 8 | D63: Pengelolaan Perpustakaan Milik Desa (Pengadaan Buku-buku Bacaan, Honor Penjaga untuk Perpustakaan/Taman Bacaan Desa)
A64: 2 | B64: 1 | C64: 9 | D64: Pengembangan dan Pembinaan Sanggar Seni dan Belajar
A65: 2 | B65: 1 | C65: 10 | D65: Dukungan Pendidikan bagi Siswa Miskin/Berprestasi
A66: 2 | B66: 1 | C66: 90-99 | D66: lain-lain kegiatan sub bidang pendidikan*
A68: 2 | B68: 2 | D68: Sub Bidang Kesehatan
A69: 2 | B69: 2 | C69: 1 | D69: Penyelenggaraan Pos Kesehatan Desa (PKD)/Polindes Milik Desa (Obat-obatan; Tambahan Insentif Bidan Desa/Perawat Desa; Penyediaan Pelayanan KB dan Alat Kontrasepsi bagi Keluarga Miskin, dst)
A70: 2 | B70: 2 | C70: 2 | D70: Penyelenggaraan Posyandu (Makanan Tambahan, Kelas Ibu Hamil, Kelas Lansia, Insentif Kader Posyandu)
A71: 2 | B71: 2 | C71: 3 | D71: Penyuluhan dan Pelatihan Bidang Kesehatan (untuk Masyarakat, Tenaga Kesehatan, Kader Kesehatan, dll)
A72: 2 | B72: 2 | C72: 4 | D72: Penyelenggaraan Desa Siaga Kesehatan
A73: 2 | B73: 2 | C73: 5 | D73: Pembinaan Palang Merah Remaja (PMR) tingkat desa
A74: 2 | B74: 2 | C74: 6 | D74: Pengasuhan Bersama atau Bina Keluarga Balita (BKB)
A75: 2 | B75: 2 | C75: 7 | D75: Pembinaan dan Pengawasan Upaya Kesehatan Tradisional
A76: 2 | B76: 2 | C76: 8 | D76: Pemeliharaan Sarana/Prasarana Posyandu/Polindes/PKD
A77: 2 | B77: 2 | C77: 9 | D77: Pembangunan/Rehabilitasi/Peningkatan/Pengadaan Sarana/Prasarana Posyandu/Polindes/PKD **
A78: 2 | B78: 2 | C78: 90-99 | D78: lain-lain kegiatan sub bidang kesehatan*
A80: 2 | B80: 3 | D80: Sub Bidang Pekerjaan Umum dan Penataan Ruang
A81: 2 | B81: 3 | C81: 1 | D81: Pemeliharaan Jalan Desa
A82: 2 | B82: 3 | C82: 2 | D82: Pemeliharaan Jalan Lingkungan Permukiman/Gang
A83: 2 | B83: 3 | C83: 3 | D83: Pemeliharaan Jalan Usaha Tani
A84: 2 | B84: 3 | C84: 4 | D84: Pemeliharaan Jembatan Milik Desa
A85: 2 | B85: 3 | C85: 5 | D85: Pemeliharaan Prasarana Jalan Desa (Gorong-gorong, Selokan, Box/Slab Culvert, Drainase, Prasarana Jalan lain)
A86: 2 | B86: 3 | C86: 6 | D86: Pemeliharaan Gedung/Prasarana Balai Desa/Balai Kemasyarakatan
A87: 2 | B87: 3 | C87: 7 | D87: Pemeliharaan Pemakaman Milik Desa/Situs Bersejarah Milik Desa/Petilasan Milik
A88: 2 | B88: 3 | C88: 8 | D88: Pemeliharaan Embung Milik Desa
A89: 2 | B89: 3 | C89: 9 | D89: Pemeliharaan Monumen/Gapura/Batas Desa
A90: 2 | B90: 3 | C90: 10 | D90: Pembangunan/Rehabilitasi/Peningkatan/Pengerasan Jalan Desa **
A91: 2 | B91: 3 | C91: 11 | D91: Pembangunan/Rehabilitasi/Peningkatan/Pengerasan Jalan Lingkungan Permukiman/Gang **
A92: 2 | B92: 3 | C92: 12 | D92: Pembangunan/Rehabilitasi/Peningkatan/Pengerasan Jalan Usaha Tani **
... A100: 2 | B100: 3 | C100: 20 | D100: Pembangunan/Rehabilitasi/Peningkatan Monumen/Gapura/Batas Desa **
A101: 2 | B101: 3 | C101: 90-99 | D101: lain-lain kegiatan sub bidang pekerjaan umum dan penataan ruang*
A103: 2 | B103: 4 | D103: Sub Bidang Kawasan Permukiman
A104: 2 | B104: 4 | C104: 1 | D104: Dukungan pelaksanaan program Pembangunan/Rehab Rumah Tidak Layak Huni (RTLH) GAKIN (pemetaan, validasi, dll)
A105: 2 | B105: 4 | C105: 2 | D105: Pemeliharaan Sumur Resapan Milik Desa
A106: 2 | B106: 4 | C106: 3 | D106: Pemeliharaan Sumber Air Bersih Milik Desa (Mata Air/Tandon Penampungan Air Hujan/Sumur Bor, dll)
A107: 2 | B107: 4 | C107: 4 | D107: Pemeliharaan Sambungan Air Bersih ke Rumah Tangga (pipanisasi, dll)
A108: 2 | B108: 4 | C108: 5 | D108: Pemeliharaan Sanitasi Permukiman (Gorong-gorong, Selokan, Parit, dll., diluar prasarana jalan)
A109: 2 | B109: 4 | C109: 6 | D109: Pemeliharaan Fasilitas Jamban Umum/MCK umum, dll
A110: 2 | B110: 4 | C110: 7 | D110: Pemeliharaan Fasilitas Pengelolaan Sampah Desa/Permukiman (Penampungan, Bank Sampah, dll)
A111: 2 | B111: 4 | C111: 8 | D111: Pemeliharaan Sistem Pembuangan Air Limbah (Drainase, Air limbah Rumah Tangga)
A112: 2 | B112: 4 | C112: 9 | D112: Pemeliharaan Taman/Taman Bermain Anak Milik Desa
A113: 2 | B113: 4 | C113: 10 | D113: Pembangunan/Rehabilitasi/Peningkatan Sumur Resapan **
A114: 2 | B114: 4 | C114: 11 | D114: Pembangunan/Rehabilitasi/Peningkatan Sumber Air Bersih Milik Desa (Mata Air/Tandon Penampungan Air Hujan/Sumur Bor, dll)**
A115: 2 | B115: 4 | C115: 12 | D115: Pembangunan/Rehabilitasi/Peningkatan Sambungan Air Bersih ke Rumah Tangga (pipanisasi, dll) **
... A120: 2 | B120: 4 | C120: 17 | D120: Pembangunan/Rehabilitasi/Peningkatan Taman/Taman Bermain Anak Milik Desa**
...

Sheet Sheet6
A2: 4 | E2: PENDAPATAN
A3: 4 | B3: 1 | E3: Pendapatan Asli Desa
A4: 4 | B4: 1 | C4: 1 | E4: Hasil Usaha
A5: 4 | B5: 1 | C5: 1 | D5: 1 | E5: Bagi Hasil BUMDes
A6: 4 | B6: 1 | C6: 1 | D6: 90-99 | E6: Lain-lain
A7: 4 | B7: 1 | C7: 2 | E7: Hasil Aset
A8: 4 | B8: 1 | C8: 2 | D8: 1 | E8: Pengelolaan Tanah Kas Desa
A9: 4 | B9: 1 | C9: 2 | D9: 2 | E9: Tambatan Perahu
A10: 4 | B10: 1 | C10: 2 | D10: 3 | E10: Pasar Desa
A11: 4 | B11: 1 | C11: 2 | D11: 4 | E11: Tempat Pemandian Umum
A12: 4 | B12: 1 | C12: 2 | D12: 5 | E12: Jaringan Irigasi Desa
A13: 4 | B13: 1 | C13: 2 | D13: 6 | E13: Pelelangan Ikan Milik Desa
A14: 4 | B14: 1 | C14: 2 | D14: 7 | E14: Kios Milik Desa
A15: 4 | B15: 1 | C15: 2 | D15: 8 | E15: Pemanfaatan Lapangan/Prasarana Olah raga Milik Desa
A16: 4 | B16: 1 | C16: 2 | D16: 90-99 | E16: Lain-lain
A17: 4 | B17: 1 | C17: 3 | E17: Swadaya, Partisipasi dan Gotong Royong
A18: 4 | B18: 1 | C18: 3 | D18: 1 | E18: Swadaya, partisipasi dan gotong royong
A19: 4 | B19: 1 | C19: 3 | D19: 90-99 | E19: Lain-lain Swadaya, Partisipasi dan Gotong Royong
A20: 4 | B20: 1 | C20: 4 | E20: Lain-lain Pendapatan Asli Desa
A21: 4 | B21: 1 | C21: 4 | D21: 1 | E21: Hasil Pungutan Desa
A22: 4 | B22: 1 | C22: 4 | D22: 90-99 | E22: Lain-lain
A23: 4 | B23: 2 | E23: Transfer
A24: 4 | B24: 2 | C24: 1 | E24: Dana Desa
A25: 4 | B25: 2 | C25: 1 | D25: 1 | E25: Dana Desa
A26: 4 | B26: 2 | C26: 2 | E26: Bagian dari Hasil Pajak dan Retribusi Daerah Kabupaten/kota
A27: 4 | B27: 2 | C27: 2 | D27: 1 | E27: Bagian dari Hasil Pajak dan Retribusi Daerah Kabupaten/kota
A28: 4 | B28: 2 | C28: 3 | E28: Alokasi Dana Desa
A29: 4 | B29: 2 | C29: 3 | D29: 1 | E29: Alokasi Dana Desa
A30: 4 | B30: 2 | C30: 4 | E30: Bantuan Keuangan Provinsi
A31: 4 | B31: 2 | C31: 4 | D31: 1 | E31: Bantuan Keuangan dari APBD Provinsi
A32: 4 | B32: 2 | C32: 4 | D32: 90-99 | E32: Lain-lain Bantuan Keuangan dari APBD Provinsi
A33: 4 | B33: 2 | C33: 5 | E33: Bantuan Keuangan APBD Kabupaten/Kota
A34: 4 | B34: 2 | C34: 5 | D34: 1 | E34: Bantuan Keuangan APBD Kabupaten/Kota
A35: 4 | B35: 2 | C35: 5 | D35: 90-99 | E35: Lain-lain Bantuan Keuangan dari APBD Kabupaten/Kota
A36: 4 | B36: 3 | E36: Pendapatan Lain-lain
A37: 4 | B37: 3 | C37: 1 | E37: Penerimaan dari Hasil Kerjasama antar Desa
A38: 4 | B38: 3 | C38: 1 | D38: 1 | E38: Penerimaan dari Hasil Kerjasama antar Desa
A39: 4 | B39: 3 | C39: 2 | E39: Penerimaan dari Hasil Kerjasama Desa dengan Pihak Ketiga
A40: 4 | B40: 3 | C40: 2 | D40: 1 | E40: Penerimaan dari Hasil Kerjasama Desa dengan Pihak Ketiga
A41: 4 | B41: 3 | C41: 3 | E41: Penerimaan dari Bantuan Perusahaan yang berlokasi di Desa
A42: 4 | B42: 3 | C42: 3 | D42: 1 | E42: Penerimaan dari Bantuan Perusahaan yang berlokasi di Desa
A43: 4 | B43: 3 | C43: 4 | E43: Hibah dan sumbangan dari Pihak Ketiga
A44: 4 | B44: 3 | C44: 4 | D44: 1 | E44: Hibah dan sumbangan dari Pihak Ketiga
A45: 4 | B45: 3 | C45: 5 | E45: Koreksi kesalahan belanja tahun-tahun anggaran sebelumnya yang mengakibatkan penerimaan di kas Desa pada tahun anggaran berjalan
A46: 4 | B46: 3 | C46: 5 | D46: 1 | E46: Koreksi kesalahan belanja tahun-tahun anggaran sebelumnya yang mengakibatkan penerimaan di kas Desa pada tahun anggaran berjalan
A47: 4 | B47: 3 | C47: 6 | E47: Bunga Bank
A48: 4 | B48: 3 | C48: 6 | D48: 1 | E48: Bunga Bank
A49: 4 | B49: 3 | C49: 9 | E49: Lain-lain pendapatan Desa yang sah
A50: 4 | B50: 3 | C50: 9 | D50: 90-99 | E50: Lain-lain pendapatan Desa yang sah
A51: 5 | E51: BELANJA
A52: 5 | B52: 1 | E52: Belanja Pegawai
A53: 5 | B53: 1 | C53: 1 | E53: Penghasilan Tetap dan Tunjangan Kepala Desa
A54: 5 | B54: 1 | C54: 1 | D54: 1 | E54: Penghasilan Tetap Kepala Desa
A55: 5 | B55: 1 | C55: 1 | D55: 2 | E55: Tunjangan Kepala Desa
A56: 5 | B56: 1 | C56: 1 | D56: 90-99 | E56: Penerimaan Lain Kepala Desa yang Sah
A57: 5 | B57: 1 | C57: 2 | E57: Penghasilan Tetap dan Tunjangan Perangkat Desa
A58: 5 | B58: 1 | C58: 2 | D58: 1 | E58: Penghasilan Tetap Perangkat Desa
A59: 5 | B59: 1 | C59: 2 | D59: 2 | E59: Tunjangan Perangkat Desa
A60: 5 | B60: 1 | C60: 2 | D60: 90-99 | E60: Penerimaan Lain Perangkat Desa yang Sah
A61: 5 | B61: 1 | C61: 3 | E61: Jaminan Sosial Kepala Desa dan Perangkat Desa
A62: 5 | B62: 1 | C62: 3 | D62: 1 | E62: Jaminan Kesehatan Kepala Desa
A63: 5 | B63: 1 | C63: 3 | D63: 2 | E63: Jaminan Kesehatan Perangkat Desa
A64: 5 | B64: 1 | C64: 3 | D64: 3 | E64: Jaminan Ketenagakerjaan Kepala Desa
A65: 5 | B65: 1 | C65: 3 | D65: 4 | E65: Jaminan Ketenagakerjaan Perangkat Desa
A66: 5 | B66: 1 | C66: 4 | E66: Tunjangan BPD
A67: 5 | B67: 1 | C67: 4 | D67: 1 | E67: Tunjangan Kedudukan BPD
A68: 5 | B68: 1 | C68: 4 | D68: 2 | E68: Tunjangan Kinerja BPD
A69: 5 | B69: 2 | E69: Belanja Barang dan Jasa
A70: 5 | B70: 2 | C70: 1 | E70: Belanja Barang Perlengkapan
A71: 5 | B71: 2 | C71: 1 | D71: 1 | E71: Belanja Perlengkapan Alat Tulis Kantor dan Benda Pos
A72: 5 | B72: 2 | C72: 1 | D72: 2 | E72: Belanja Perlengkapan Alat-alat Listrik
A73: 5 | B73: 2 | C73: 1 | D73: 3 | E73: Belanja Perlengkapan Alat-alat Rumah Tangga/Peralatan dan Bahan Kebersihan
A74: 5 | B74: 2 | C74: 1 | D74: 4 | E74: Belanja Bahan Bakar Minyak/Gas/Isi Ulang Tabung Pemadam Kebakaran
A75: 5 | B75: 2 | C75: 1 | D75: 5 | E75: Belanja Perlengkapan Cetak/Penggandaan - Belanja Barang Cetak dan Penggandaan
A76: 5 | B76: 2 | C76: 1 | D76: 6 | E76: Belanja Perlengkapan Barang Konsumsi (Makan/minum) - Belanja Barang Konsumsi
A77: 5 | B77: 2 | C77: 1 | D77: 7 | E77: Belanja Bahan/Material
A78: 5 | B78: 2 | C78: 1 | D78: 8 | E78: Belanja Bendera/Umbul-umbul/Spanduk
A79: 5 | B79: 2 | C79: 1 | D79: 9 | E79: Belanja Pakaian Dinas/Seragam/Atribut
A80: 5 | B80: 2 | C80: 1 | D80: 10 | E80: Belanja Obat-obatan
A81: 5 | B81: 2 | C81: 1 | D81: 11 | E81: Belanja Pakan Hewan/Ikan, Obat-obatan Hewan
A82: 5 | B82: 2 | C82: 1 | D82: 12 | E82: Belanja Pupuk/Obat-obatan Pertanian
A83: 5 | B83: 2 | C83: 1 | D83: 90-99 | E83: Belanja Barang Perlengkapan Lainnya
A84: 5 | B84: 2 | C84: 2 | E84: Belanja Jasa Honorarium
A85: 5 | B85: 2 | C85: 2 | D85: 1 | E85: Belanja Jasa Honorarium Tim yang Melaksanakan Kegiatan
A86: 5 | B86: 2 | C86: 2 | D86: 2 | E86: Belanja Jasa Honorarium Pembantu Tugas Umum Desa/Operator
A87: 5 | B87: 2 | C87: 2 | D87: 3 | E87: Belanja Jasa Honorarium/Insentif Pelayanan Desa
A88: 5 | B88: 2 | C88: 2 | D88: 4 | E88: Belanja Jasa Honorarium Ahli/Profesi/Konsultan/Narasumber
A89: 5 | B89: 2 | C89: 2 | D89: 5 | E89: Belanja Jasa Honorarium Petugas
A90: 5 | B90: 2 | C90: 2 | D90: 90-99 | E90: Belanja Jasa Honorarium Lainnya
A91: 5 | B91: 2 | C91: 3 | E91: Belanja Perjalanan Dinas
A92: 5 | B92: 2 | C92: 3 | D92: 1 | E92: Belanja Perjalanan Dinas Dalam Kabupaten/Kota
A93: 5 | B93: 2 | C93: 3 | D93: 2 | E93: Belanja Perjalanan Dinas Luar Kabupaten/Kota
A94: 5 | B94: 2 | C94: 3 | D94: 3 | E94: Belanja Kursus/Pelatihan
A95: 5 | B95: 2 | C95: 4 | E95: Belanja Jasa Sewa
A96: 5 | B96: 2 | C96: 4 | D96: 1 | E96: Belanja Jasa Sewa Bangunan/Gedung/Ruang
A97: 5 | B97: 2 | C97: 4 | D97: 2 | E97: Belanja Jasa Sewa Peralatan/Perlengkapan
A98: 5 | B98: 2 | C98: 4 | D98: 3 | E98: Belanja Jasa Sewa Sarana Mobilitas
A99: 5 | B99: 2 | C99: 4 | D99: 90-99 | E99: Belanja Jasa Sewa Lainnya
A100: 5 | B100: 2 | C100: 5 | E100: Belanja Operasional Perkantoran
A101: 5 | B101: 2 | C101: 5 | D101: 1 | E101: Belanja Jasa Langganan Listrik
...
