Workbook

Sheet PERKAM
D1: PEMERINTAH KAMPUNG YUWANAIN
D2: DISTRIK ARSO
D3: KABUPATEN KEEROM
A5: PERATURAN KAMPUNG YUWANAIAN
A6: NOMOR 02 TAHUN 2022
A7: T E N T A N G
A8: ANGGARAN PENDAPATAN DAN BELANJA KAMPUNG
A9: TAHUN ANGGARAN 2022
A11: DENGAN RAHMAT TUHAN YANG MAHA ESA
A13: KEPALA KAMPUNG YUWANAIN
A15: Menimbang | D15: : | E15: a. | F15: bahwa Anggaran Pendapatan dan Belanja Kampung sebagai wujud dari pengelolaan keuangan Kampung dilaksanakan secara terbuka dan bertanggung jawab untuk sebesar-besarnya kemakmuran masyarakat Kampung
E16: b. | F16: bahwa Anggaran Pendapatan dan Belanja Kampung Tahun Anggaran 2022 termuat dalam Peraturan Kampung tentang Anggaran Pendapatan dan Belanja Kampung Tahun Anggaran 2022 yang disusun sesuai dengan kebutuhan penyelenggaraan pemerintahan Kampung berdasarkan prinsip kebersamaan, efisiensi, berkeadilan, berkelanjutan, berwawasan lingkungan, dan kemandirian sehingga menciptakan landasan kuat dalam melaksanakann pemerintahan dan pembangunan menuju masyarakat yang adil, makmur, dan sejahtera;
E17: c. | F17: c. bahwa berdasarkan pertimbangan sebagaimana dimaksud dalam huruf a dan huruf b, perlu menetapkan Peraturan Kampung tentang Anggaran Pendapatan dan Belanja Kampung Tahun Anggaran 2022
A18: Mengingat | D18: : | E18: 1. | F18: Undang-Undang Nomor 12 Tahun 1969 tentang Pembentukan Propinsi Otonomi Irian Barat dan Kabupaten-kabupaten Otonom di Propinsi Irian Barat (Lembaran Negara Republik Indonesia Tahun 1969 Nomor 47, Tambahan Lembaran Negara Republik Indonesia Nomor 2507);
E19: 2. | F19: Undang-Undang Nomor 21 Tahun 2001 tentang Otonomi Khusus Bagi Propinsi Papua (Lembaran Negara Republik Indonesia Tahun 2001 Nomor 135, Tambahan Lembaran Negara Republik Indonesia nomor 4151) sebagaimana telah diubah dengan Undang-Undang Nomor 35 Tahun 2008 Nomor 112, Tambahan Lembaran Negara Republik Indonesia Nomor 4884);
E20: 3. | F20: Undang-Undang Nomor 26 Tahun 2002 tentang Pembentukan Kabupaten Sarmi, Kabupaten Keerom, Kabupaten Sorong Selatan, Kabupaten Raja Ampat, Kabupaten Pegunungan Bintang, Kabupaten Yahukimo, Kabupaten Boven Digoel, Kabupaten Mappi, Kabupaten Asmat, Kabupaten Teluk Bintuni, Kabupaten Teluk Wondama di Provinsi Papua (Lembaran Negara Republik Indonesia Tahun 2002 Nomor 129, Tambahan Lembaran Negara Republik Indonesia Nomor 4245);
E21: 4. | F21: Undang-Undang Nomor 33 Tahun 2004 tentang Perimbangan Keuangan Antara Pemerintah Pusat dan Pemerintah Daerah (Lembaran Negara Republik Indonesia Tahun 2004 Nomor 126, Tambahan Lembaran Negara Republik Indonesia Nomor 4438);
E22: 5. | F22: Undang-Undang Nomor 6 Tahun 2014 tentang Kampung (Lembaran Negara Republik Indonesia Tahun 2014 Nomor 7, Tambahan Lembaran Negara Republik Indonesia Nomor 5495);
E23: 6. | F23: Undang-Undang Nomor 23 Tahun 2014 tentang Pemerintahan Daerah (Lembaran Negara Republik Indonesia Tahun 2014 Nomor 244, Tambahan Lembaran Negara Republik Indonesia Nomor 5587);
E24: 7. | F24: Peraturan Pemerintah Nomor 43 Tahun 2014 tentang Peraturan Pelaksanaan Undang-Undang Nomor 6 Tahun 2014 Tentang Kampung (Lembaran Negara Republik Indonesia Tahun 2014 Nomor 123, Tambahan Lembaran Negara Republik Indonesia Nomor 5539) sebagaimana diubah dengan Peraturan Pemerintah Nomor 47 Tahun 2015 Tentang Perubahan Atas Peraturan Pemerintah Nomor 43 Tahun 2014 Tentang Peraturan Pelaksanaan Undang-Undang Nomor 6 Tahun 2014 Tentang Kampung (Lembaran Negara Republik Indonesia Tahun 2014 Nomor 157, Tambahan Lembaran Negara Republik Indonesia Nomor 5717) ;
E25: 8. | F25: Peraturan Pemerintah Nomor 60 Tahun 2014 tentang Dana Kampung Yang Bersumber Dari Anggaran Pendapatan dan Belanja Negara (Lembaran Negara Republik Indonesia Tahun 2014 Nomor 168, Tambahan Lembaran Negara Republik Indonesia Nomor 5558) sebagaimana diubah dengan Peraturan Pemerintah Nomor 22 Tahun 2015 tentang Perubahan atas Peraturan Pemerintah Nomor 60 Tahun 2014 tentang Dana Kampung yang Bersumber dari Anggaran Pendapatan dan Belanja Negara (Lembaran Negara Republik Indonesia Tahun 2015 Nomor 88, Tambahan Lembaran Negara Republik Indonesia Nomor 5694) sebagaimana diubah keduakalinya dengan Peraturan Pemerintah Nomor 8 Tahun 2016 tentang Perubahan Kedua Atas Peraturan Pemerintah Nomor 60 Tahun 2014 tentang Dana Kampung yang Bersumber dari Anggaran Pendapatan dan Belanja Negara (Lembaran Negara Republik Indonesia Tahun 2016 Nomor 57, Tambahan Lembaran Negara Republik Indonesia Nomor 5864)
E26: 9. | F26: Peraturan Presiden Republik Indonesia No 104 Tahun 2021 Tentang Rincian Anggaran Pendapatan dan Belanja Negara Tahun 2022
E27: 10. | F27: Peraturan Menteri Dalam Negeri Nomor 20 Tahun 2018 tentang Pengelolaan Keuangan Kampung
E28: 11. | F28: Peraturan Menteri Keuangan Republik Indonesia Nomor 190 /PMK.07/ Tahun 2021 Tentang Pengelolaan Dana Desa
E29: 12. | F29: Peraturan Menteri Pembangunan Daerah Tertinggal, dan Transmigrasi Republik Indonesia No 7 Tahun 2021 Tentang Prioritas Penggunaan Dana Desa Tahun 2022
E30: 13. | F30: Peraturan Daerah Kabupaten Keerom Nomor 11 Tahun 2022 tentang Anggaran Pendapatan dan Belanja Daerah Kabupaten Keerom Tahun Anggaran 2022
E31: 14. | F31: Peraturan Bupati Keerom Nomor 306 Tahun 2022 Tentang Alokasi Dana Kampung, Tata Cara Pembagian, Dan Penetapan Pembagian Kepada Setiap Kampung Tahun Anggaran 2022
A33: Dengan Kesepakatan Bersama
A34: BADAN MUSYAWARAH KAMPUNG YUWANAIN
A35: DAN
A36: KEPALA KAMPUNG YUWANAIAN
A38: MEMUTUSKAN
A39: Menetapkan | D39: : | E39: PERATURAN KAMPUNG YUWANAIN TENTANG ANGGARAN PENDAPATAN DAN BELANJA KAMPUNG TAHUN ANGGARAN 2022
A42: Pasal 1
A43: Anggaran Pendapatan dan Belanja Kampung Tahun Anggaran 2022 dengan rincian sebagai berikut:
B44: 1. Pendapatan Kampung | I44: ='LAMPIRAN APBK'!$C$12 -> 1828327498
B45: 2. Belanja Kampung
B46: a. | C46: ='LAMPIRAN APBK'!B27 -> BIDANG PENYELENGGARAAN PEMERINTAHAN KAMPUNG | I46: ='LAMPIRAN APBK'!C27 -> 526571498
B47: b. | C47: ='LAMPIRAN APBK'!B96 -> BIDANG PELAKSANAAN PEMBANGUNAN KAMPUNG | I47: ='LAMPIRAN APBK'!C96 -> 279855520
B48: c. | C48: ='LAMPIRAN APBK'!B129 -> BIDANG PEMBINAAN KEMASYARAKATAN KAMPUNG | I48: ='LAMPIRAN APBK'!C129 -> 143000000
...

Sheet LAMPIRAN APBK
A1: Lampiran Peraturan Kampung Yuwanaian
A2: Nomor : 02
A3: Tahun : 2022
A4: Tentang : Anggaran Pendapatan dan Belanja Kampung 2022
A6: ANGGARAN PENDAPATAN DAN BELANJA KAMPUNG
A7: PEMERINTAH KAMPUNG YUWANAIN
A8: TAHUN ANGGARAN 2022
A10: KODE REKENING | B10: URAIAN | C10: ANGGARAN (Rp) | D10: KETERANGAN
A12: 4 | B12: PENDAPATAN | C12: =C24 -> 1828327498
A13: 4.1 | B13: Pendapatan Asli Kampung | C13: =C15 -> 0
A15: 4.1.2 | B15: Hasil Aset Kampung | C15: =SUM(C16:C16) -> 0
A16: 4.1.2.2 | B16: Pendapatan Sewa Gedung Milik Kampung
A18: 4.2 | B18: Pendapatan Transfer | C18: =SUM(C19:C22) -> 1828327498
A19: 4.2.1 | B19: Dana Kampung | C19: =[1]Sheet1!$C$11 -> 1238756000 | D19: DD | F19: =C19-C170 -> 741956000
A20: 4.2.2 | B20: Bagian dari hasil pajak &retribusi daerah kabupaten | C20: 0 | F20: =F19*60% -> 445173600
A21: 4.2.3 | B21: Alokasi Dana Kampung | C21: =[1]Sheet1!$D$11 -> 589571498 | D21: ADD
A22: 4.2.4 | B22: Bantuan Keuangan Provinsi
B24: JUMLAH PENDAPATAN | C24: =C13+C18 -> 1828327498
A25: 5 | B25: BELANJA | C25: =C172 -> 1828327498
A27: 1 | B27: BIDANG PENYELENGGARAAN PEMERINTAHAN KAMPUNG | C27: =C28+C77+C83+C87 -> 526571498
A28: 1.1.51 | B28: Sub Bidang Penyelenggaraan belanja Penghasilan Tetap,Tunjangan, | C28: =C29+C34+C38+C42+C52+C62+C68+C73 -> 481071498
A29: 1.1.1.5.1.1 | B29: Penyediaan Penghasilan Tetap dan Tunjangan Kepala Kampung | C29: =SUM(C30:C31) -> 44400000
B30: Penghasilan Tetap Kepala Kampung (@Rp. 3.200.000 x 1 x 12) | C30: =3200000*12*1 -> 38400000 | D30: ADD | E30: =3200000*1*5 -> 16000000
B31: Tunjangan Kepala Kampung (@Rp. 500.000 x 1 x 12) | C31: =500000*1*12 -> 6000000 | D31: ADD | E31: =500000*1*5 -> 2500000
A33: 1.1.2.5.1.2 | B33: Penyediaan Penghasilan Tetap dan Tunjangan Perangkat Kampung
A34: 1.1.2.5.1.2.1 | B34: Penghasilan Tetap Aparat Kampung | C34: =SUM(C35:C36) -> 130560000
B35: Penghasilan Tetap Sekretaris Kampung (@Rp. 2.560.000 x 1 x 12) | C35: =2560000*1*12 -> 30720000 | D35: ADD | E35: =2560000*1*5 -> 12800000
B36: Penghasilan Tetap Aparat Kampung (@Rp. 2.080.000 x 4 x 12) | C36: =2080000*4*12 -> 99840000 | D36: ADD | E36: =2080000*4*5 -> 41600000 | F36: =800000*12 -> 9600000
A38: 1.1.2.5.1.2.2 | B38: Tunjangan Aparat Kampung | C38: =SUM(C39:C40) -> 13200000
B39: Tunjangan Sekretaris Kampung (@Rp. 300.000 x 1 x 12) | C39: =300000*1*12 -> 3600000 | D39: ADD | E39: =300000*1*5 -> 1500000
B40: Tunjangan Aparat Kampung (@Rp. 200.000 x 4 x 12) | C40: =200000*4*12 -> 9600000 | D40: ADD | E40: =200000*4*5 -> 4000000 | H40: =C30+C31+C35+C36+C39+C40+C44+C45+C46+C48+C49+C50+C53+C54+C55+C56+C57+C58+C59+C60+C63+C64+C65+C66+C69+C70+C71+C74+C75+C79+C80+C81+C89+C91+C93+C146+C150+C161 -> 583571498 | I40: =G41-H40 -> 6000000
F41: ADD | G41: =C21 -> 589571498 | H41: =C30+C31+C35+C36+C39+C40+C44+C45+C46+C48+C49+C50+C53+C54+C55+C56+C57+C58+C59+C60+C63+C64+C65+C66+C69+C70+C71+C74+C75+C79+C80+C81+C89+C91+C93+C146+C150+C161 -> 583571498 | I41: =G41-H41 -> 6000000
A42: 1.1.3.5.1.3 | B42: Penyediaan Jaminan Sosial bagi Kepala Kampung dan Perangkat Kampung | C42: =C43+C47 -> 28272024 | F42: DD | G42: =C19 -> 1238756000 | H42: =C85+C99+C100+C104+C105+C106+C107+C109+C111+C115+C116+C117+C127+C132+C138+C142+C151+C156+C166+C170+C136+C137+C122+C123+C119 -> 1085756000 | I42: =G42-H42 -> 153000000
B43: BPJS Ketenagakerjaan | C43: =SUM(C44:C46) -> 15611904 | H43: =C85+C99+C100+C104+C105+C106+C107+C109+C111+C115+C116+C117+C119+C122+C123+C127+C132+C136+C137+C138+C142+C151+C156+C166+C170 -> 1085756000 | I43: =G42-H43 -> 153000000
B44: Jaminan BPJS Ketenagakerjaan Kepala Desa (@Rp. 295.680 x 1 x 12) | C44: =295680*1*12 -> 3548160 | D44: ADD | F44: BB | G44: =#REF! -> #REF! | H44: =#REF! -> #REF! | I44: =G44-H44 -> #REF!
B45: Jaminan BPJS Ketenagakerjaan Sekretaris Desa (@Rp. 236.544 x 1 x 12) | C45: =236544*1*12 -> 2838528 | D45: ADD | F45: TOTAL | G45: =SUM(G41:G44) -> #REF! | H45: =SUM(H41:H44) -> #REF! | I45: =G45-H45 -> #REF!
B46: Jaminan BPJS Ketenagakerjaan Perangkat Desa (@Rp. 192.192 x 4 x 12) | C46: =192192*4*12 -> 9225216 | D46: ADD
B47: BPJS Kesehatan | C47: =SUM(C48:C50) -> 12660120
B48: Jaminan BPJS Kesehatan Kepala Desa (@Rp. 175.835 x 1 x 12) | C48: =175835*1*12 -> 2110020 | D48: ADD | F48: ADD Silpa | G48: =C179 -> 0 | H48: =#REF!+#REF!+#REF!+#REF!+#REF!+#REF!+#REF!+#REF!+#REF!+#REF!+#REF!+#REF! -> #REF! | I48: =G48-H48 -> #REF!
B49: Jaminan BPJS Kesehatan Sekretaris Desa (@Rp. 175.835 x 1 x 12) | C49: =175835*1*12 -> 2110020 | D49: ADD
...

Sheet Sheet5
A1: Daftar Kode Rekening Bidang, Sub Bidang, dan Kegiatan
A3: 1 | D3: BIDANG PENYELENGGARAAN PEMERINTAHAN DESA
D4: Bidang Penyelenggaraan Pemerintahan Desa berisi sub bidang dan kegiatan yang digunakan untuk mendukung terselenggaranya fungsi pemerintahan Desa yang mencakup:
A5: 1 | B5: 1 | D5: Sub Bidang Penyelenggaraan Belanja Penghasilan Tetap, Tunjangan dan Operasional Pemerintahan Desa (Maksimal 30 % untuk kegiatan 1-7)
A6: 1 | B6: 1 | C6: 1 | D6: Penyediaan Penghasilan Tetap dan Tunjangan Kepala Desa
A7: 1 | B7: 1 | C7: 2 | D7: Penyediaan Penghasilan Tetap dan Tunjangan Perangkat Desa
A8: 1 | B8: 1 | C8: 3 | D8: Penyediaan Jaminan Sosial bagi Kepala Desa dan Perangkat Desa
A9: 1 | B9: 1 | C9: 4 | D9: Penyediaan Operasional Pemerintah Desa (ATK, Honorarium PKPKD dan PPKD, perlengkapan perkantoran, pakaian dinas/atribut, listrik/telpon, dll)
A10: 1 | B10: 1 | C10: 5 | D10: Penyediaan Tunjangan BPD
A11: 1 | B11: 1 | C11: 6 | D11: Penyediaan Operasional BPD (Rapat-rapat (ATK, makan-minum), perlengkapan perkantoran, Pakaian Seragam, perjalanan dinas, listrik/telpon, dll)
A12: 1 | B12: 1 | C12: 7 | D12: Penyediaan Insentif/Operasional RT/RW
A13: 1 | B13: 1 | C13: 90-99 | D13: Lain-lain Sub Bidang Penyelenggaraan Belanja Penghasilan Tetap, Tunjangan dan Operasional Pemerintahan Desa
A15: 1 | B15: 2 | D15: Sub Bidang Sarana dan Prasarana Pemerintahan Desa
A16: 1 | B16: 2 | C16: 1 | D16: Penyediaan sarana (aset tetap) perkantoran/pemerintahan
A17: 1 | B17: 2 | C17: 2 | D17: Pemeliharaan Gedung/Prasarana Kantor Desa
A18: 1 | B18: 2 | C18: 3 | D18: Pembangunan/Rehabilitasi/Peningkatan Gedung/Prasarana Kantor Desa**
A19: 1 | B19: 2 | C19: 90-99 | D19: lain-lain kegiatan sub bidang sarana dan prasarana pemerintahan Desa*
A21: 1 | B21: 3 | D21: Sub Bidang Administrasi Kependudukan, Pencatatan Sipil, Statistik dan Kearsipan
A22: 1 | B22: 3 | C22: 1 | D22: Pelayanan administrasi umum dan kependudukan (Surat Pengantar/Pelayanan KTP, Akta Kelahiran, Kartu Keluarga, dll)
A23: 1 | B23: 3 | C23: 2 | D23: Penyusunan/Pendataan/Pemutakhiran Profil Desa (profil kependudukan dan potensi desa)**
A24: 1 | B24: 3 | C24: 3 | D24: Pengelolaan administrasi dan kearsipan pemerintahan desa
A25: 1 | B25: 3 | C25: 4 | D25: Penyuluhan dan Penyadaran Masyarakat tentang Kependudukan dan Pencatatan Sip
A26: 1 | B26: 3 | C26: 5 | D26: Pemetaan dan Analisis Kemiskinan Desa secara Partisipatif
A27: 1 | B27: 3 | C27: 90-99 | D27: lain-lain kegiatan sub bidang administrasi kependudukan, pencatatan sipil, statistik dan kearsipan*
A29: 1 | B29: 4 | D29: Sub Bidang Tata Praja Pemerintahan, Perencanaan, Keuangan dan Pelaporan
A30: 1 | B30: 4 | C30: 1 | D30: Penyelenggaraan Musyawarah Perencanaan Desa/Pembahasan APBDes (Musdes, Musrenbangdes/Pra-Musrenbangdes, dll., bersifat reguler)
A31: 1 | B31: 4 | C31: 2 | D31: Penyelenggaraan Musyawarah Desa lainnya (musdus, rembug warga, dll., yang bersifat non-reguler sesuai kebutuhan desa)
A32: 1 | B32: 4 | C32: 3 | D32: Penyusunan Dokumen Perencanaan Desa (RPJMDes/RKPDes,dll)
A33: 1 | B33: 4 | C33: 4 | D33: Penyusunan Dokumen Keuangan Desa (APBDes/ APBDes Perubahan/ LPJ APBDes, dan seluruh dokumen terkait)
A34: 1 | B34: 4 | C34: 5 | D34: Pengelolaan/Administrasi/Inventarisasi/Penilaian Aset Desa
A35: 1 | B35: 4 | C35: 6 | D35: Penyusunan Kebijakan Desa (Perdes/Perkades, dll - diluar dokumen Rencana Pembangunan/Keuangan)
A36: 1 | B36: 4 | C36: 7 | D36: Penyusunan Laporan Kepala Desa/Penyelenggaraan Pemerintahan Desa (laporan akhir tahun anggaran, laporan akhir masa jabatan, laporan keterangan akhir tahun anggaran, informasi kepada masyarakat)
A37: 1 | B37: 4 | C37: 8 | D37: Pengembangan Sistem Informasi Desa
A38: 1 | B38: 4 | C38: 9 | D38: Koordinasi/Kerjasama Penyelenggaraan Pemerintahan dan Pembangunan Desa (Antar Desa/Kecamatan/Kabupaten, Pihak Ketiga, dll)**
A39: 1 | B39: 4 | C39: 10 | D39: Dukungan Pelaksanaan dan Sosialisasi Pilkades, Pemilihan Kepala Kewilayahan dan Pemilihan BPD (yang menjadi wewenang Desa)
A40: 1 | B40: 4 | C40: 11 | D40: Penyelenggaraan Lomba antar kewilayahan dan pengiriman kontingen dalam mengikuti Lomba Desa
A41: 1 | B41: 4 | C41: 90-99 | D41: lain-lain kegiatan sub bidang tata praja pemerintahan, perencanaan, keuangan dan pelaporan*
A43: 1 | B43: 5 | D43: Sub Bidang Pertanahan
A44: 1 | B44: 5 | C44: 1 | D44: Sertifikasi Tanah Kas Desa
A45: 1 | B45: 5 | C45: 2 | D45: Administrasi Pertanahan (Pendaftaran Tanah, dan Pemberian Registrasi Agenda Pertanahan)
...

Sheet Sheet6
A2: 4 | E2: PENDAPATAN
A3: 4 | B3: 1 | E3: Pendapatan Asli Desa
A4: 4 | B4: 1 | C4: 1 | E4: Hasil Usaha
A5: 4 | B5: 1 | C5: 1 | D5: 1 | E5: Bagi Hasil BUMDes
A6: 4 | B6: 1 | C6: 1 | D6: 90-99 | E6: Lain-lain
A7: 4 | B7: 1 | C7: 2 | E7: Hasil Aset
A8: 4 | B8: 1 | C8: 2 | D8: 1 | E8: Pengelolaan Tanah Kas Desa
A9: 4 | B9: 1 | C9: 2 | D9: 2 | E9: Tambatan Perahu
A10: 4 | B10: 1 | C10: 2 | D10: 3 | E10: Pasar Desa
A11: 4 | B11: 1 | C11: 2 | D11: 4 | E11: Tempat Pemandian Umum
A12: 4 | B12: 1 | C12: 2 | D12: 5 | E12: Jaringan Irigasi Desa
A13: 4 | B13: 1 | C13: 2 | D13: 6 | E13: Pelelangan Ikan Milik Desa
A14: 4 | B14: 1 | C14: 2 | D14: 7 | E14: Kios Milik Desa
A15: 4 | B15: 1 | C15: 2 | D15: 8 | E15: Pemanfaatan Lapangan/Prasarana Olah raga Milik Desa
A16: 4 | B16: 1 | C16: 2 | D16: 90-99 | E16: Lain-lain
A17: 4 | B17: 1 | C17: 3 | E17: Swadaya, Partisipasi dan Gotong Royong
A18: 4 | B18: 1 | C18: 3 | D18: 1 | E18: Swadaya, partisipasi dan gotong royong
A19: 4 | B19: 1 | C19: 3 | D19: 90-99 | E19: Lain-lain Swadaya, Partisipasi dan Gotong Royong
A20: 4 | B20: 1 | C20: 4 | E20: Lain-lain Pendapatan Asli Desa
A21: 4 | B21: 1 | C21: 4 | D21: 1 | E21: Hasil Pungutan Desa
A22: 4 | B22: 1 | C22: 4 | D22: 90-99 | E22: Lain-lain
A23: 4 | B23: 2 | E23: Transfer
A24: 4 | B24: 2 | C24: 1 | E24: Dana Desa
A25: 4 | B25: 2 | C25: 1 | D25: 1 | E25: Dana Desa
A26: 4 | B26: 2 | C26: 2 | E26: Bagian dari Hasil Pajak dan Retribusi Daerah Kabupaten/kota
A27: 4 | B27: 2 | C27: 2 | D27: 1 | E27: Bagian dari Hasil Pajak dan Retribusi Daerah Kabupaten/kota
A28: 4 | B28: 2 | C28: 3 | E28: Alokasi Dana Desa
A29: 4 | B29: 2 | C29: 3 | D29: 1 | E29: Alokasi Dana Desa
A30: 4 | B30: 2 | C30: 4 | E30: Bantuan Keuangan Provinsi
A31: 4 | B31: 2 | C31: 4 | D31: 1 | E31: Bantuan Keuangan dari APBD Provinsi
A32: 4 | B32: 2 | C32: 4 | D32: 90-99 | E32: Lain-lain Bantuan Keuangan dari APBD Provinsi
A33: 4 | B33: 2 | C33: 5 | E33: Bantuan Keuangan APBD Kabupaten/Kota
A34: 4 | B34: 2 | C34: 5 | D34: 1 | E34: Bantuan Keuangan APBD Kabupaten/Kota
A35: 4 | B35: 2 | C35: 5 | D35: 90-99 | E35: Lain-lain Bantuan Keuangan dari APBD Kabupaten/Kota
A36: 4 | B36: 3 | E36: Pendapatan Lain-lain
A37: 4 | B37: 3 | C37: 1 | E37: Penerimaan dari Hasil Kerjasama antar Desa
A38: 4 | B38: 3 | C38: 1 | D38: 1 | E38: Penerimaan dari Hasil Kerjasama antar Desa
A39: 4 | B39: 3 | C39: 2 | E39: Penerimaan dari Hasil Kerjasama Desa dengan Pihak Ketiga
A40: 4 | B40: 3 | C40: 2 | D40: 1 | E40: Penerimaan dari Hasil Kerjasama Desa dengan Pihak Ketiga
A41: 4 | B41: 3 | C41: 3 | E41: Penerimaan dari Bantuan Perusahaan yang berlokasi di Desa
...
